BEGIN:VCALENDAR
VERSION:2.0
PRODID:-//Michigan Center for Adult College Success - ECPv6.15.20//NONSGML v1.0//EN
CALSCALE:GREGORIAN
METHOD:PUBLISH
X-WR-CALNAME:Michigan Center for Adult College Success
X-ORIGINAL-URL:https://mcacs.talentfirst.net
X-WR-CALDESC:Events for Michigan Center for Adult College Success
REFRESH-INTERVAL;VALUE=DURATION:PT1H
X-Robots-Tag:noindex
X-PUBLISHED-TTL:PT1H
BEGIN:VTIMEZONE
TZID:America/Detroit
BEGIN:DAYLIGHT
TZOFFSETFROM:-0500
TZOFFSETTO:-0400
TZNAME:EDT
DTSTART:20230312T070000
END:DAYLIGHT
BEGIN:STANDARD
TZOFFSETFROM:-0400
TZOFFSETTO:-0500
TZNAME:EST
DTSTART:20231105T060000
END:STANDARD
BEGIN:DAYLIGHT
TZOFFSETFROM:-0500
TZOFFSETTO:-0400
TZNAME:EDT
DTSTART:20240310T070000
END:DAYLIGHT
BEGIN:STANDARD
TZOFFSETFROM:-0400
TZOFFSETTO:-0500
TZNAME:EST
DTSTART:20241103T060000
END:STANDARD
BEGIN:DAYLIGHT
TZOFFSETFROM:-0500
TZOFFSETTO:-0400
TZNAME:EDT
DTSTART:20250309T070000
END:DAYLIGHT
BEGIN:STANDARD
TZOFFSETFROM:-0400
TZOFFSETTO:-0500
TZNAME:EST
DTSTART:20251102T060000
END:STANDARD
END:VTIMEZONE
BEGIN:VEVENT
DTSTART;TZID=America/Detroit:20241216T120000
DTEND;TZID=America/Detroit:20241216T130000
DTSTAMP:20260421T181042
CREATED:20241205T163855Z
LAST-MODIFIED:20241210T154307Z
UID:10000075-1734350400-1734354000@mcacs.talentfirst.net
SUMMARY:MI-LEARN Design Lab Informational Webinar
DESCRIPTION:The Michigan Center for Adult College Success is partnering with Education Strategy Group  and Sova Solutions  to launch a new opportunity for post-secondary institutions seeking to design innovative solutions to address systems change and challenges faced by the adult learner population the Michigan Learning Evolution and Academic Restructuring Network (MI-LEARN) Design Lab. \nIf you are an institutional leader interested in having your institution participate in the MI-LEARN Design Lab and would like some additional information\, please register for our webinar. During this webinar\, we will discuss an overview and purpose of the Design Lab\, the benefits of participating\, and expectations and commitments from institutional participants. \nIf you are unable to make it to the webinar\, we do plan to record the event and will post a recording to the MI-LEARN webpage.
URL:https://mcacs.talentfirst.net/event/mi-learn-design-lab-information-webinar/
LOCATION:MI
CATEGORIES:MI-LEARN
END:VEVENT
END:VCALENDAR