BEGIN:VCALENDAR
VERSION:2.0
PRODID:-//Michigan Center for Adult College Success - ECPv6.15.20//NONSGML v1.0//EN
CALSCALE:GREGORIAN
METHOD:PUBLISH
X-WR-CALNAME:Michigan Center for Adult College Success
X-ORIGINAL-URL:https://mcacs.talentfirst.net
X-WR-CALDESC:Events for Michigan Center for Adult College Success
REFRESH-INTERVAL;VALUE=DURATION:PT1H
X-Robots-Tag:noindex
X-PUBLISHED-TTL:PT1H
BEGIN:VTIMEZONE
TZID:America/Detroit
BEGIN:DAYLIGHT
TZOFFSETFROM:-0500
TZOFFSETTO:-0400
TZNAME:EDT
DTSTART:20230312T070000
END:DAYLIGHT
BEGIN:STANDARD
TZOFFSETFROM:-0400
TZOFFSETTO:-0500
TZNAME:EST
DTSTART:20231105T060000
END:STANDARD
BEGIN:DAYLIGHT
TZOFFSETFROM:-0500
TZOFFSETTO:-0400
TZNAME:EDT
DTSTART:20240310T070000
END:DAYLIGHT
BEGIN:STANDARD
TZOFFSETFROM:-0400
TZOFFSETTO:-0500
TZNAME:EST
DTSTART:20241103T060000
END:STANDARD
BEGIN:DAYLIGHT
TZOFFSETFROM:-0500
TZOFFSETTO:-0400
TZNAME:EDT
DTSTART:20250309T070000
END:DAYLIGHT
BEGIN:STANDARD
TZOFFSETFROM:-0400
TZOFFSETTO:-0500
TZNAME:EST
DTSTART:20251102T060000
END:STANDARD
END:VTIMEZONE
BEGIN:VEVENT
DTSTART;TZID=America/Detroit:20240731T153000
DTEND;TZID=America/Detroit:20240731T163000
DTSTAMP:20260424T075828
CREATED:20240724T204219Z
LAST-MODIFIED:20240724T204504Z
UID:10000073-1722439800-1722443400@mcacs.talentfirst.net
SUMMARY:Elevated Readiness: Resources Available to Prepare Viable Proposals for Sixty by 30 Student Success Grants
DESCRIPTION:More than $45 million is available to Michigan’s public universities and public and tribal colleges through the Office of Sixty by 30 Student Success Grants. The requirements of the five competitive grant opportunities are complex and require significant planning on the part of applicants to develop successful proposals. The Elevated Readiness Program\, funded by a grant from MiLEAP and the Office of Sixty by 30\, provides free resources to prepare viable grant proposals. The Center is partnering with the Michigan Association of State Universities and the Michigan College Access Network to coordinate assistance for public universities in Michigan. Learn more about this program on July 31 at 3:30. Register to attend live or receive a recording: https://us02web.zoom.us/meeting/register/tZIof-iurTgrGd0UF0tFvZzMA_FU8vxz09JL
URL:https://mcacs.talentfirst.net/event/elevated-readiness-resources-available-to-prepare-viable-proposals-for-sixty-by-30-student-success-grants/
LOCATION:MI
ORGANIZER;CN="MCACS":MAILTO:TheCenter@talentfirst.net
END:VEVENT
END:VCALENDAR